BEGIN:VCALENDAR
VERSION:2.0
PRODID:-//Your New Parkway - ECPv4.9.12//NONSGML v1.0//EN
CALSCALE:GREGORIAN
METHOD:PUBLISH
X-WR-CALNAME:Your New Parkway
X-ORIGINAL-URL:https://www.thenewparkway.com
X-WR-CALDESC:Events for Your New Parkway
BEGIN:VTIMEZONE
TZID:America/Los_Angeles
BEGIN:DAYLIGHT
TZOFFSETFROM:-0800
TZOFFSETTO:-0700
TZNAME:PDT
DTSTART:20260308T100000
END:DAYLIGHT
BEGIN:STANDARD
TZOFFSETFROM:-0700
TZOFFSETTO:-0800
TZNAME:PST
DTSTART:20261101T090000
END:STANDARD
END:VTIMEZONE
BEGIN:VEVENT
DTSTART;TZID=America/Los_Angeles:20260417T190000
DTEND;TZID=America/Los_Angeles:20260417T213000
DTSTAMP:20260421T171839
CREATED:20260416T222305Z
LAST-MODIFIED:20260416T222305Z
UID:49996-1776452400-1776461400@www.thenewparkway.com
SUMMARY:WARRIORS vs SUNS 2026 PLAY-IN
DESCRIPTION:Don’t miss a minute of the action as the hometown Warriors go for the play-offs! We’ll have all the blood\, sweat\, and cheers on the giant silver screen with no shortage of great food and drink to go along with your favorite basketball team. Go Warriors! \n
URL:https://www.thenewparkway.com/event/warriors-vs-suns-2026-play-in/
ATTACH;FMTTYPE=image/gif:https://www.thenewparkway.com/wp-content/uploads/2021/11/warriorsbball.gif
END:VEVENT
END:VCALENDAR