BEGIN:VCALENDAR
VERSION:2.0
PRODID:-//Your New Parkway - ECPv4.9.12//NONSGML v1.0//EN
CALSCALE:GREGORIAN
METHOD:PUBLISH
X-WR-CALNAME:Your New Parkway
X-ORIGINAL-URL:https://www.thenewparkway.com
X-WR-CALDESC:Events for Your New Parkway
BEGIN:VTIMEZONE
TZID:America/Los_Angeles
BEGIN:DAYLIGHT
TZOFFSETFROM:-0800
TZOFFSETTO:-0700
TZNAME:PDT
DTSTART:20260308T100000
END:DAYLIGHT
BEGIN:STANDARD
TZOFFSETFROM:-0700
TZOFFSETTO:-0800
TZNAME:PST
DTSTART:20261101T090000
END:STANDARD
END:VTIMEZONE
BEGIN:VEVENT
DTSTART;TZID=America/Los_Angeles:20260420T183000
DTEND;TZID=America/Los_Angeles:20260420T203000
DTSTAMP:20260421T133641
CREATED:20260414T201759Z
LAST-MODIFIED:20260415T003404Z
UID:49976-1776709800-1776717000@www.thenewparkway.com
SUMMARY:9/11: RECLAIMING GROUND ZERO\, presented by East Bay Civic Hub
DESCRIPTION:9/11: Reclaiming Ground Zero tells the remarkable story of how Americans came together after the tragedy of September 11 to help determine the future of the World Trade Center site through one of the largest public deliberation processes ever held in the United States. Thousands of citizens from across the region gathered to discuss competing proposals\, weigh trade-offs\, and collectively shape what would ultimately be built at Ground Zero. \nThe film offers a rare look at democracy in action\, illustrating how structured dialogue and public participation can help communities navigate complex decisions and moments of national significance. \nWe are honored to be joined for the evening by Carolyn Lukensmeyer\, a nationally recognized leader in democratic innovation and founder of AmericaSpeaks. Carolyn helped design Listening to the City\, the 2002 public forum that brought New Yorkers together in that pivotal moment. She will share reflections on that experience and and offer inspiration for Bay Area efforts to strengthen democracy. \n
URL:https://www.thenewparkway.com/event/9-11-reclaiming-ground-zero-presented-by-east-bay-civic-hub/
ATTACH;FMTTYPE=image/jpeg:https://www.thenewparkway.com/wp-content/uploads/2026/04/reclaiming-ground-zero.jpg
END:VEVENT
END:VCALENDAR